BEGIN:VCALENDAR
VERSION:2.0
PRODID:-//6 and 40 Brewery - ECPv6.15.20//NONSGML v1.0//EN
CALSCALE:GREGORIAN
METHOD:PUBLISH
X-ORIGINAL-URL:https://6and40brewery.com
X-WR-CALDESC:Events for 6 and 40 Brewery
REFRESH-INTERVAL;VALUE=DURATION:PT1H
X-Robots-Tag:noindex
X-PUBLISHED-TTL:PT1H
BEGIN:VTIMEZONE
TZID:America/Denver
BEGIN:DAYLIGHT
TZOFFSETFROM:-0700
TZOFFSETTO:-0600
TZNAME:MDT
DTSTART:20250309T090000
END:DAYLIGHT
BEGIN:STANDARD
TZOFFSETFROM:-0600
TZOFFSETTO:-0700
TZNAME:MST
DTSTART:20251102T080000
END:STANDARD
BEGIN:DAYLIGHT
TZOFFSETFROM:-0700
TZOFFSETTO:-0600
TZNAME:MDT
DTSTART:20260308T090000
END:DAYLIGHT
BEGIN:STANDARD
TZOFFSETFROM:-0600
TZOFFSETTO:-0700
TZNAME:MST
DTSTART:20261101T080000
END:STANDARD
BEGIN:DAYLIGHT
TZOFFSETFROM:-0700
TZOFFSETTO:-0600
TZNAME:MDT
DTSTART:20270314T090000
END:DAYLIGHT
BEGIN:STANDARD
TZOFFSETFROM:-0600
TZOFFSETTO:-0700
TZNAME:MST
DTSTART:20271107T080000
END:STANDARD
END:VTIMEZONE
BEGIN:VEVENT
DTSTART;TZID=America/Denver:20260420T173000
DTEND;TZID=America/Denver:20260420T200000
DTSTAMP:20260420T072929
CREATED:20260201T174438Z
LAST-MODIFIED:20260201T174438Z
UID:10003477-1776706200-1776715200@6and40brewery.com
SUMMARY:bluegrass pick
DESCRIPTION:Come and pick with us or just enjoy the pickers every Monday at 5:30.   It’s a great way to kick back on a Monday Evening. 
URL:https://6and40brewery.com/event/bluegrass-pick-2/2026-04-20/
LOCATION:6 and 40 Brewery\, 883 Parfet Street\, Unit J\, Lakewood\, CO\, 80215\, United States
CATEGORIES:Event
END:VEVENT
BEGIN:VEVENT
DTSTART;TZID=America/Denver:20260423T180000
DTEND;TZID=America/Denver:20260423T200000
DTSTAMP:20260420T072929
CREATED:20250304T005017Z
LAST-MODIFIED:20250719T185801Z
UID:10003133-1776967200-1776974400@6and40brewery.com
SUMMARY:Shut Up 'N' Drink Trivia
DESCRIPTION:Thirsty Thursday means it’s time for our weekly brain stimulation with Shut Up ‘N’ Drink Trivia brought to you by the Smart Alecs at BnL. Three rounds of trivia start at 5;30pm with fabulous prizes\, friendly competition\, and great beers from 6 and 40 Brewery! Will your team triumph or be broken by the infamous Equalizer?
URL:https://6and40brewery.com/event/trivia-night-2-2/2026-04-23/
LOCATION:6 and 40 Brewery\, 883 Parfet Street\, Unit J\, Lakewood\, CO\, 80215\, United States
CATEGORIES:Event
ATTACH;FMTTYPE=image/jpeg:https://6and40brewery.com/wp-content/uploads/2021/08/TriviaNight_Featured.jpg
ORGANIZER;CN="6 and 40 Brewery":MAILTO:beer@6and40brewery.com
END:VEVENT
BEGIN:VEVENT
DTSTART;TZID=America/Denver:20260424T190000
DTEND;TZID=America/Denver:20260424T210000
DTSTAMP:20260420T072929
CREATED:20260302T222116Z
LAST-MODIFIED:20260402T144306Z
UID:10003738-1777057200-1777064400@6and40brewery.com
SUMMARY:schaden bee
DESCRIPTION: Watch from the crowd\, or try to win prizes as a contestant. \n\nWe’re bringing the SchadenBee to 6 and 40 Brewery’s Beer Barn on Friday\, March 27\, at 7:00pm for our incredible Adult Spelling Bee! \nWe’ll have a wide variety of words ranging from traditional to hilarious ready for our contestants to spell\, and prizes to give away. One person will be crowned the champ\, will it be you? \nYou can enjoy the show two different ways: \nFirst: Sit back in the audience and watch! \nContestants do their best to spell a variety of words\, some found in a traditional spelling bee\, spicy sexual words\, straight up swear words\, and more. \nSecond: Participate and show off your spelling chops! \nOur gracious hosts 6 and 40 will be giving away awesome goodies for our best spellers\, and your host will have surprises up their sleeves\, too. \nThink you have what it takes to win it all? We’ll take registrations on the day of the event\, but spots can fill quickly so select a contestant ticket\, sit back\, and start studying!
URL:https://6and40brewery.com/event/schaden-bee/
LOCATION:6 and 40 Brewery\, 883 Parfet Street\, Unit J\, Lakewood\, CO\, 80215\, United States
CATEGORIES:Event
END:VEVENT
BEGIN:VEVENT
DTSTART;TZID=America/Denver:20260427T173000
DTEND;TZID=America/Denver:20260427T200000
DTSTAMP:20260420T072929
CREATED:20260201T174438Z
LAST-MODIFIED:20260201T174438Z
UID:10003478-1777311000-1777320000@6and40brewery.com
SUMMARY:bluegrass pick
DESCRIPTION:Come and pick with us or just enjoy the pickers every Monday at 5:30.   It’s a great way to kick back on a Monday Evening. 
URL:https://6and40brewery.com/event/bluegrass-pick-2/2026-04-27/
LOCATION:6 and 40 Brewery\, 883 Parfet Street\, Unit J\, Lakewood\, CO\, 80215\, United States
CATEGORIES:Event
END:VEVENT
BEGIN:VEVENT
DTSTART;TZID=America/Denver:20260430T180000
DTEND;TZID=America/Denver:20260430T200000
DTSTAMP:20260420T072929
CREATED:20250304T005017Z
LAST-MODIFIED:20250719T185801Z
UID:10003134-1777572000-1777579200@6and40brewery.com
SUMMARY:Shut Up 'N' Drink Trivia
DESCRIPTION:Thirsty Thursday means it’s time for our weekly brain stimulation with Shut Up ‘N’ Drink Trivia brought to you by the Smart Alecs at BnL. Three rounds of trivia start at 5;30pm with fabulous prizes\, friendly competition\, and great beers from 6 and 40 Brewery! Will your team triumph or be broken by the infamous Equalizer?
URL:https://6and40brewery.com/event/trivia-night-2-2/2026-04-30/
LOCATION:6 and 40 Brewery\, 883 Parfet Street\, Unit J\, Lakewood\, CO\, 80215\, United States
CATEGORIES:Event
ATTACH;FMTTYPE=image/jpeg:https://6and40brewery.com/wp-content/uploads/2021/08/TriviaNight_Featured.jpg
ORGANIZER;CN="6 and 40 Brewery":MAILTO:beer@6and40brewery.com
END:VEVENT
END:VCALENDAR