BEGIN:VCALENDAR
VERSION:2.0
PRODID:-//6 and 40 Brewery - ECPv6.15.20//NONSGML v1.0//EN
CALSCALE:GREGORIAN
METHOD:PUBLISH
X-ORIGINAL-URL:https://6and40brewery.com
X-WR-CALDESC:Events for 6 and 40 Brewery
REFRESH-INTERVAL;VALUE=DURATION:PT1H
X-Robots-Tag:noindex
X-PUBLISHED-TTL:PT1H
BEGIN:VTIMEZONE
TZID:America/Denver
BEGIN:DAYLIGHT
TZOFFSETFROM:-0700
TZOFFSETTO:-0600
TZNAME:MDT
DTSTART:20290311T090000
END:DAYLIGHT
BEGIN:STANDARD
TZOFFSETFROM:-0600
TZOFFSETTO:-0700
TZNAME:MST
DTSTART:20291104T080000
END:STANDARD
BEGIN:DAYLIGHT
TZOFFSETFROM:-0700
TZOFFSETTO:-0600
TZNAME:MDT
DTSTART:20300310T090000
END:DAYLIGHT
BEGIN:STANDARD
TZOFFSETFROM:-0600
TZOFFSETTO:-0700
TZNAME:MST
DTSTART:20301103T080000
END:STANDARD
BEGIN:DAYLIGHT
TZOFFSETFROM:-0700
TZOFFSETTO:-0600
TZNAME:MDT
DTSTART:20310309T090000
END:DAYLIGHT
BEGIN:STANDARD
TZOFFSETFROM:-0600
TZOFFSETTO:-0700
TZNAME:MST
DTSTART:20311102T080000
END:STANDARD
END:VTIMEZONE
BEGIN:VEVENT
DTSTART;TZID=America/Denver:20300723T140000
DTEND;TZID=America/Denver:20300723T200000
DTSTAMP:20260419T073131
CREATED:20250304T005016Z
LAST-MODIFIED:20260304T180743Z
UID:10003759-1911045600-1911067200@6and40brewery.com
SUMMARY:Discounted Crowlers and $21 4-Packs All Day
DESCRIPTION:Tuesday can promotion! All 4-packs of 16 oz cans are $21\, and all on-tap beers and seltzers are available in a 32 oz crowler at a discounted rate.   Come in today from 2-8PM\, or order ahead for pick-up on 6and40brewery.com. \n  \n  \n 
URL:https://6and40brewery.com/event/discount-any-crowler-deal/2030-07-23/
LOCATION:6 and 40 Brewery\, 883 Parfet Street\, Unit J\, Lakewood\, CO\, 80215\, United States
CATEGORIES:Beer Promotion
ATTACH;FMTTYPE=image/jpeg:https://6and40brewery.com/wp-content/uploads/2022/09/16oz.jpeg
ORGANIZER;CN="6 and 40 Brewery":MAILTO:beer@6and40brewery.com
END:VEVENT
BEGIN:VEVENT
DTSTART;TZID=America/Denver:20300729T173000
DTEND;TZID=America/Denver:20300729T200000
DTSTAMP:20260419T073131
CREATED:20260201T174438Z
LAST-MODIFIED:20260201T174438Z
UID:10003700-1911576600-1911585600@6and40brewery.com
SUMMARY:bluegrass pick
DESCRIPTION:Come and pick with us or just enjoy the pickers every Monday at 5:30.   It’s a great way to kick back on a Monday Evening. 
URL:https://6and40brewery.com/event/bluegrass-pick-2/2030-07-29/
LOCATION:6 and 40 Brewery\, 883 Parfet Street\, Unit J\, Lakewood\, CO\, 80215\, United States
CATEGORIES:Event
END:VEVENT
BEGIN:VEVENT
DTSTART;TZID=America/Denver:20300730T140000
DTEND;TZID=America/Denver:20300730T200000
DTSTAMP:20260419T073131
CREATED:20250304T005016Z
LAST-MODIFIED:20260304T180743Z
UID:10003760-1911650400-1911672000@6and40brewery.com
SUMMARY:Discounted Crowlers and $21 4-Packs All Day
DESCRIPTION:Tuesday can promotion! All 4-packs of 16 oz cans are $21\, and all on-tap beers and seltzers are available in a 32 oz crowler at a discounted rate.   Come in today from 2-8PM\, or order ahead for pick-up on 6and40brewery.com. \n  \n  \n 
URL:https://6and40brewery.com/event/discount-any-crowler-deal/2030-07-30/
LOCATION:6 and 40 Brewery\, 883 Parfet Street\, Unit J\, Lakewood\, CO\, 80215\, United States
CATEGORIES:Beer Promotion
ATTACH;FMTTYPE=image/jpeg:https://6and40brewery.com/wp-content/uploads/2022/09/16oz.jpeg
ORGANIZER;CN="6 and 40 Brewery":MAILTO:beer@6and40brewery.com
END:VEVENT
BEGIN:VEVENT
DTSTART;TZID=America/Denver:20300805T173000
DTEND;TZID=America/Denver:20300805T200000
DTSTAMP:20260419T073131
CREATED:20260201T174438Z
LAST-MODIFIED:20260201T174438Z
UID:10003701-1912181400-1912190400@6and40brewery.com
SUMMARY:bluegrass pick
DESCRIPTION:Come and pick with us or just enjoy the pickers every Monday at 5:30.   It’s a great way to kick back on a Monday Evening. 
URL:https://6and40brewery.com/event/bluegrass-pick-2/2030-08-05/
LOCATION:6 and 40 Brewery\, 883 Parfet Street\, Unit J\, Lakewood\, CO\, 80215\, United States
CATEGORIES:Event
END:VEVENT
BEGIN:VEVENT
DTSTART;TZID=America/Denver:20300806T140000
DTEND;TZID=America/Denver:20300806T200000
DTSTAMP:20260419T073131
CREATED:20250304T005016Z
LAST-MODIFIED:20260304T180743Z
UID:10003761-1912255200-1912276800@6and40brewery.com
SUMMARY:Discounted Crowlers and $21 4-Packs All Day
DESCRIPTION:Tuesday can promotion! All 4-packs of 16 oz cans are $21\, and all on-tap beers and seltzers are available in a 32 oz crowler at a discounted rate.   Come in today from 2-8PM\, or order ahead for pick-up on 6and40brewery.com. \n  \n  \n 
URL:https://6and40brewery.com/event/discount-any-crowler-deal/2030-08-06/
LOCATION:6 and 40 Brewery\, 883 Parfet Street\, Unit J\, Lakewood\, CO\, 80215\, United States
CATEGORIES:Beer Promotion
ATTACH;FMTTYPE=image/jpeg:https://6and40brewery.com/wp-content/uploads/2022/09/16oz.jpeg
ORGANIZER;CN="6 and 40 Brewery":MAILTO:beer@6and40brewery.com
END:VEVENT
BEGIN:VEVENT
DTSTART;TZID=America/Denver:20300812T173000
DTEND;TZID=America/Denver:20300812T200000
DTSTAMP:20260419T073131
CREATED:20260201T174438Z
LAST-MODIFIED:20260201T174438Z
UID:10003702-1912786200-1912795200@6and40brewery.com
SUMMARY:bluegrass pick
DESCRIPTION:Come and pick with us or just enjoy the pickers every Monday at 5:30.   It’s a great way to kick back on a Monday Evening. 
URL:https://6and40brewery.com/event/bluegrass-pick-2/2030-08-12/
LOCATION:6 and 40 Brewery\, 883 Parfet Street\, Unit J\, Lakewood\, CO\, 80215\, United States
CATEGORIES:Event
END:VEVENT
BEGIN:VEVENT
DTSTART;TZID=America/Denver:20300813T140000
DTEND;TZID=America/Denver:20300813T200000
DTSTAMP:20260419T073131
CREATED:20250304T005016Z
LAST-MODIFIED:20260304T180743Z
UID:10003762-1912860000-1912881600@6and40brewery.com
SUMMARY:Discounted Crowlers and $21 4-Packs All Day
DESCRIPTION:Tuesday can promotion! All 4-packs of 16 oz cans are $21\, and all on-tap beers and seltzers are available in a 32 oz crowler at a discounted rate.   Come in today from 2-8PM\, or order ahead for pick-up on 6and40brewery.com. \n  \n  \n 
URL:https://6and40brewery.com/event/discount-any-crowler-deal/2030-08-13/
LOCATION:6 and 40 Brewery\, 883 Parfet Street\, Unit J\, Lakewood\, CO\, 80215\, United States
CATEGORIES:Beer Promotion
ATTACH;FMTTYPE=image/jpeg:https://6and40brewery.com/wp-content/uploads/2022/09/16oz.jpeg
ORGANIZER;CN="6 and 40 Brewery":MAILTO:beer@6and40brewery.com
END:VEVENT
BEGIN:VEVENT
DTSTART;TZID=America/Denver:20300819T173000
DTEND;TZID=America/Denver:20300819T200000
DTSTAMP:20260419T073131
CREATED:20260201T174438Z
LAST-MODIFIED:20260201T174438Z
UID:10003703-1913391000-1913400000@6and40brewery.com
SUMMARY:bluegrass pick
DESCRIPTION:Come and pick with us or just enjoy the pickers every Monday at 5:30.   It’s a great way to kick back on a Monday Evening. 
URL:https://6and40brewery.com/event/bluegrass-pick-2/2030-08-19/
LOCATION:6 and 40 Brewery\, 883 Parfet Street\, Unit J\, Lakewood\, CO\, 80215\, United States
CATEGORIES:Event
END:VEVENT
BEGIN:VEVENT
DTSTART;TZID=America/Denver:20300820T140000
DTEND;TZID=America/Denver:20300820T200000
DTSTAMP:20260419T073131
CREATED:20250304T005016Z
LAST-MODIFIED:20260304T180743Z
UID:10003763-1913464800-1913486400@6and40brewery.com
SUMMARY:Discounted Crowlers and $21 4-Packs All Day
DESCRIPTION:Tuesday can promotion! All 4-packs of 16 oz cans are $21\, and all on-tap beers and seltzers are available in a 32 oz crowler at a discounted rate.   Come in today from 2-8PM\, or order ahead for pick-up on 6and40brewery.com. \n  \n  \n 
URL:https://6and40brewery.com/event/discount-any-crowler-deal/2030-08-20/
LOCATION:6 and 40 Brewery\, 883 Parfet Street\, Unit J\, Lakewood\, CO\, 80215\, United States
CATEGORIES:Beer Promotion
ATTACH;FMTTYPE=image/jpeg:https://6and40brewery.com/wp-content/uploads/2022/09/16oz.jpeg
ORGANIZER;CN="6 and 40 Brewery":MAILTO:beer@6and40brewery.com
END:VEVENT
BEGIN:VEVENT
DTSTART;TZID=America/Denver:20300826T173000
DTEND;TZID=America/Denver:20300826T200000
DTSTAMP:20260419T073131
CREATED:20260201T174438Z
LAST-MODIFIED:20260201T174438Z
UID:10003704-1913995800-1914004800@6and40brewery.com
SUMMARY:bluegrass pick
DESCRIPTION:Come and pick with us or just enjoy the pickers every Monday at 5:30.   It’s a great way to kick back on a Monday Evening. 
URL:https://6and40brewery.com/event/bluegrass-pick-2/2030-08-26/
LOCATION:6 and 40 Brewery\, 883 Parfet Street\, Unit J\, Lakewood\, CO\, 80215\, United States
CATEGORIES:Event
END:VEVENT
BEGIN:VEVENT
DTSTART;TZID=America/Denver:20300827T140000
DTEND;TZID=America/Denver:20300827T200000
DTSTAMP:20260419T073131
CREATED:20250304T005016Z
LAST-MODIFIED:20260304T180743Z
UID:10003764-1914069600-1914091200@6and40brewery.com
SUMMARY:Discounted Crowlers and $21 4-Packs All Day
DESCRIPTION:Tuesday can promotion! All 4-packs of 16 oz cans are $21\, and all on-tap beers and seltzers are available in a 32 oz crowler at a discounted rate.   Come in today from 2-8PM\, or order ahead for pick-up on 6and40brewery.com. \n  \n  \n 
URL:https://6and40brewery.com/event/discount-any-crowler-deal/2030-08-27/
LOCATION:6 and 40 Brewery\, 883 Parfet Street\, Unit J\, Lakewood\, CO\, 80215\, United States
CATEGORIES:Beer Promotion
ATTACH;FMTTYPE=image/jpeg:https://6and40brewery.com/wp-content/uploads/2022/09/16oz.jpeg
ORGANIZER;CN="6 and 40 Brewery":MAILTO:beer@6and40brewery.com
END:VEVENT
BEGIN:VEVENT
DTSTART;TZID=America/Denver:20300902T173000
DTEND;TZID=America/Denver:20300902T200000
DTSTAMP:20260419T073131
CREATED:20260201T174438Z
LAST-MODIFIED:20260201T174438Z
UID:10003705-1914600600-1914609600@6and40brewery.com
SUMMARY:bluegrass pick
DESCRIPTION:Come and pick with us or just enjoy the pickers every Monday at 5:30.   It’s a great way to kick back on a Monday Evening. 
URL:https://6and40brewery.com/event/bluegrass-pick-2/2030-09-02/
LOCATION:6 and 40 Brewery\, 883 Parfet Street\, Unit J\, Lakewood\, CO\, 80215\, United States
CATEGORIES:Event
END:VEVENT
BEGIN:VEVENT
DTSTART;TZID=America/Denver:20300903T140000
DTEND;TZID=America/Denver:20300903T200000
DTSTAMP:20260419T073131
CREATED:20250304T005016Z
LAST-MODIFIED:20260304T180743Z
UID:10003765-1914674400-1914696000@6and40brewery.com
SUMMARY:Discounted Crowlers and $21 4-Packs All Day
DESCRIPTION:Tuesday can promotion! All 4-packs of 16 oz cans are $21\, and all on-tap beers and seltzers are available in a 32 oz crowler at a discounted rate.   Come in today from 2-8PM\, or order ahead for pick-up on 6and40brewery.com. \n  \n  \n 
URL:https://6and40brewery.com/event/discount-any-crowler-deal/2030-09-03/
LOCATION:6 and 40 Brewery\, 883 Parfet Street\, Unit J\, Lakewood\, CO\, 80215\, United States
CATEGORIES:Beer Promotion
ATTACH;FMTTYPE=image/jpeg:https://6and40brewery.com/wp-content/uploads/2022/09/16oz.jpeg
ORGANIZER;CN="6 and 40 Brewery":MAILTO:beer@6and40brewery.com
END:VEVENT
BEGIN:VEVENT
DTSTART;TZID=America/Denver:20300909T173000
DTEND;TZID=America/Denver:20300909T200000
DTSTAMP:20260419T073131
CREATED:20260201T174438Z
LAST-MODIFIED:20260201T174438Z
UID:10003706-1915205400-1915214400@6and40brewery.com
SUMMARY:bluegrass pick
DESCRIPTION:Come and pick with us or just enjoy the pickers every Monday at 5:30.   It’s a great way to kick back on a Monday Evening. 
URL:https://6and40brewery.com/event/bluegrass-pick-2/2030-09-09/
LOCATION:6 and 40 Brewery\, 883 Parfet Street\, Unit J\, Lakewood\, CO\, 80215\, United States
CATEGORIES:Event
END:VEVENT
BEGIN:VEVENT
DTSTART;TZID=America/Denver:20300910T140000
DTEND;TZID=America/Denver:20300910T200000
DTSTAMP:20260419T073131
CREATED:20250304T005016Z
LAST-MODIFIED:20260304T180743Z
UID:10003766-1915279200-1915300800@6and40brewery.com
SUMMARY:Discounted Crowlers and $21 4-Packs All Day
DESCRIPTION:Tuesday can promotion! All 4-packs of 16 oz cans are $21\, and all on-tap beers and seltzers are available in a 32 oz crowler at a discounted rate.   Come in today from 2-8PM\, or order ahead for pick-up on 6and40brewery.com. \n  \n  \n 
URL:https://6and40brewery.com/event/discount-any-crowler-deal/2030-09-10/
LOCATION:6 and 40 Brewery\, 883 Parfet Street\, Unit J\, Lakewood\, CO\, 80215\, United States
CATEGORIES:Beer Promotion
ATTACH;FMTTYPE=image/jpeg:https://6and40brewery.com/wp-content/uploads/2022/09/16oz.jpeg
ORGANIZER;CN="6 and 40 Brewery":MAILTO:beer@6and40brewery.com
END:VEVENT
BEGIN:VEVENT
DTSTART;TZID=America/Denver:20300916T173000
DTEND;TZID=America/Denver:20300916T200000
DTSTAMP:20260419T073131
CREATED:20260201T174438Z
LAST-MODIFIED:20260201T174438Z
UID:10003707-1915810200-1915819200@6and40brewery.com
SUMMARY:bluegrass pick
DESCRIPTION:Come and pick with us or just enjoy the pickers every Monday at 5:30.   It’s a great way to kick back on a Monday Evening. 
URL:https://6and40brewery.com/event/bluegrass-pick-2/2030-09-16/
LOCATION:6 and 40 Brewery\, 883 Parfet Street\, Unit J\, Lakewood\, CO\, 80215\, United States
CATEGORIES:Event
END:VEVENT
BEGIN:VEVENT
DTSTART;TZID=America/Denver:20300917T140000
DTEND;TZID=America/Denver:20300917T200000
DTSTAMP:20260419T073131
CREATED:20250304T005016Z
LAST-MODIFIED:20260304T180743Z
UID:10003767-1915884000-1915905600@6and40brewery.com
SUMMARY:Discounted Crowlers and $21 4-Packs All Day
DESCRIPTION:Tuesday can promotion! All 4-packs of 16 oz cans are $21\, and all on-tap beers and seltzers are available in a 32 oz crowler at a discounted rate.   Come in today from 2-8PM\, or order ahead for pick-up on 6and40brewery.com. \n  \n  \n 
URL:https://6and40brewery.com/event/discount-any-crowler-deal/2030-09-17/
LOCATION:6 and 40 Brewery\, 883 Parfet Street\, Unit J\, Lakewood\, CO\, 80215\, United States
CATEGORIES:Beer Promotion
ATTACH;FMTTYPE=image/jpeg:https://6and40brewery.com/wp-content/uploads/2022/09/16oz.jpeg
ORGANIZER;CN="6 and 40 Brewery":MAILTO:beer@6and40brewery.com
END:VEVENT
BEGIN:VEVENT
DTSTART;TZID=America/Denver:20300923T173000
DTEND;TZID=America/Denver:20300923T200000
DTSTAMP:20260419T073131
CREATED:20260201T174438Z
LAST-MODIFIED:20260201T174438Z
UID:10003708-1916415000-1916424000@6and40brewery.com
SUMMARY:bluegrass pick
DESCRIPTION:Come and pick with us or just enjoy the pickers every Monday at 5:30.   It’s a great way to kick back on a Monday Evening. 
URL:https://6and40brewery.com/event/bluegrass-pick-2/2030-09-23/
LOCATION:6 and 40 Brewery\, 883 Parfet Street\, Unit J\, Lakewood\, CO\, 80215\, United States
CATEGORIES:Event
END:VEVENT
BEGIN:VEVENT
DTSTART;TZID=America/Denver:20300924T140000
DTEND;TZID=America/Denver:20300924T200000
DTSTAMP:20260419T073132
CREATED:20250304T005016Z
LAST-MODIFIED:20260304T180743Z
UID:10003768-1916488800-1916510400@6and40brewery.com
SUMMARY:Discounted Crowlers and $21 4-Packs All Day
DESCRIPTION:Tuesday can promotion! All 4-packs of 16 oz cans are $21\, and all on-tap beers and seltzers are available in a 32 oz crowler at a discounted rate.   Come in today from 2-8PM\, or order ahead for pick-up on 6and40brewery.com. \n  \n  \n 
URL:https://6and40brewery.com/event/discount-any-crowler-deal/2030-09-24/
LOCATION:6 and 40 Brewery\, 883 Parfet Street\, Unit J\, Lakewood\, CO\, 80215\, United States
CATEGORIES:Beer Promotion
ATTACH;FMTTYPE=image/jpeg:https://6and40brewery.com/wp-content/uploads/2022/09/16oz.jpeg
ORGANIZER;CN="6 and 40 Brewery":MAILTO:beer@6and40brewery.com
END:VEVENT
BEGIN:VEVENT
DTSTART;TZID=America/Denver:20300930T173000
DTEND;TZID=America/Denver:20300930T200000
DTSTAMP:20260419T073132
CREATED:20260201T174438Z
LAST-MODIFIED:20260201T174438Z
UID:10003709-1917019800-1917028800@6and40brewery.com
SUMMARY:bluegrass pick
DESCRIPTION:Come and pick with us or just enjoy the pickers every Monday at 5:30.   It’s a great way to kick back on a Monday Evening. 
URL:https://6and40brewery.com/event/bluegrass-pick-2/2030-09-30/
LOCATION:6 and 40 Brewery\, 883 Parfet Street\, Unit J\, Lakewood\, CO\, 80215\, United States
CATEGORIES:Event
END:VEVENT
BEGIN:VEVENT
DTSTART;TZID=America/Denver:20301001T140000
DTEND;TZID=America/Denver:20301001T200000
DTSTAMP:20260419T073132
CREATED:20250304T005016Z
LAST-MODIFIED:20260304T180743Z
UID:10003769-1917093600-1917115200@6and40brewery.com
SUMMARY:Discounted Crowlers and $21 4-Packs All Day
DESCRIPTION:Tuesday can promotion! All 4-packs of 16 oz cans are $21\, and all on-tap beers and seltzers are available in a 32 oz crowler at a discounted rate.   Come in today from 2-8PM\, or order ahead for pick-up on 6and40brewery.com. \n  \n  \n 
URL:https://6and40brewery.com/event/discount-any-crowler-deal/2030-10-01/
LOCATION:6 and 40 Brewery\, 883 Parfet Street\, Unit J\, Lakewood\, CO\, 80215\, United States
CATEGORIES:Beer Promotion
ATTACH;FMTTYPE=image/jpeg:https://6and40brewery.com/wp-content/uploads/2022/09/16oz.jpeg
ORGANIZER;CN="6 and 40 Brewery":MAILTO:beer@6and40brewery.com
END:VEVENT
BEGIN:VEVENT
DTSTART;TZID=America/Denver:20301007T173000
DTEND;TZID=America/Denver:20301007T200000
DTSTAMP:20260419T073132
CREATED:20260201T174438Z
LAST-MODIFIED:20260201T174438Z
UID:10003710-1917624600-1917633600@6and40brewery.com
SUMMARY:bluegrass pick
DESCRIPTION:Come and pick with us or just enjoy the pickers every Monday at 5:30.   It’s a great way to kick back on a Monday Evening. 
URL:https://6and40brewery.com/event/bluegrass-pick-2/2030-10-07/
LOCATION:6 and 40 Brewery\, 883 Parfet Street\, Unit J\, Lakewood\, CO\, 80215\, United States
CATEGORIES:Event
END:VEVENT
BEGIN:VEVENT
DTSTART;TZID=America/Denver:20301008T140000
DTEND;TZID=America/Denver:20301008T200000
DTSTAMP:20260419T073132
CREATED:20250304T005016Z
LAST-MODIFIED:20260304T180743Z
UID:10003770-1917698400-1917720000@6and40brewery.com
SUMMARY:Discounted Crowlers and $21 4-Packs All Day
DESCRIPTION:Tuesday can promotion! All 4-packs of 16 oz cans are $21\, and all on-tap beers and seltzers are available in a 32 oz crowler at a discounted rate.   Come in today from 2-8PM\, or order ahead for pick-up on 6and40brewery.com. \n  \n  \n 
URL:https://6and40brewery.com/event/discount-any-crowler-deal/2030-10-08/
LOCATION:6 and 40 Brewery\, 883 Parfet Street\, Unit J\, Lakewood\, CO\, 80215\, United States
CATEGORIES:Beer Promotion
ATTACH;FMTTYPE=image/jpeg:https://6and40brewery.com/wp-content/uploads/2022/09/16oz.jpeg
ORGANIZER;CN="6 and 40 Brewery":MAILTO:beer@6and40brewery.com
END:VEVENT
BEGIN:VEVENT
DTSTART;TZID=America/Denver:20301014T173000
DTEND;TZID=America/Denver:20301014T200000
DTSTAMP:20260419T073132
CREATED:20260201T174438Z
LAST-MODIFIED:20260201T174438Z
UID:10003711-1918229400-1918238400@6and40brewery.com
SUMMARY:bluegrass pick
DESCRIPTION:Come and pick with us or just enjoy the pickers every Monday at 5:30.   It’s a great way to kick back on a Monday Evening. 
URL:https://6and40brewery.com/event/bluegrass-pick-2/2030-10-14/
LOCATION:6 and 40 Brewery\, 883 Parfet Street\, Unit J\, Lakewood\, CO\, 80215\, United States
CATEGORIES:Event
END:VEVENT
BEGIN:VEVENT
DTSTART;TZID=America/Denver:20301015T140000
DTEND;TZID=America/Denver:20301015T200000
DTSTAMP:20260419T073132
CREATED:20250304T005016Z
LAST-MODIFIED:20260304T180743Z
UID:10003771-1918303200-1918324800@6and40brewery.com
SUMMARY:Discounted Crowlers and $21 4-Packs All Day
DESCRIPTION:Tuesday can promotion! All 4-packs of 16 oz cans are $21\, and all on-tap beers and seltzers are available in a 32 oz crowler at a discounted rate.   Come in today from 2-8PM\, or order ahead for pick-up on 6and40brewery.com. \n  \n  \n 
URL:https://6and40brewery.com/event/discount-any-crowler-deal/2030-10-15/
LOCATION:6 and 40 Brewery\, 883 Parfet Street\, Unit J\, Lakewood\, CO\, 80215\, United States
CATEGORIES:Beer Promotion
ATTACH;FMTTYPE=image/jpeg:https://6and40brewery.com/wp-content/uploads/2022/09/16oz.jpeg
ORGANIZER;CN="6 and 40 Brewery":MAILTO:beer@6and40brewery.com
END:VEVENT
BEGIN:VEVENT
DTSTART;TZID=America/Denver:20301021T173000
DTEND;TZID=America/Denver:20301021T200000
DTSTAMP:20260419T073132
CREATED:20260201T174438Z
LAST-MODIFIED:20260201T174438Z
UID:10003712-1918834200-1918843200@6and40brewery.com
SUMMARY:bluegrass pick
DESCRIPTION:Come and pick with us or just enjoy the pickers every Monday at 5:30.   It’s a great way to kick back on a Monday Evening. 
URL:https://6and40brewery.com/event/bluegrass-pick-2/2030-10-21/
LOCATION:6 and 40 Brewery\, 883 Parfet Street\, Unit J\, Lakewood\, CO\, 80215\, United States
CATEGORIES:Event
END:VEVENT
BEGIN:VEVENT
DTSTART;TZID=America/Denver:20301022T140000
DTEND;TZID=America/Denver:20301022T200000
DTSTAMP:20260419T073132
CREATED:20250304T005016Z
LAST-MODIFIED:20260304T180743Z
UID:10003772-1918908000-1918929600@6and40brewery.com
SUMMARY:Discounted Crowlers and $21 4-Packs All Day
DESCRIPTION:Tuesday can promotion! All 4-packs of 16 oz cans are $21\, and all on-tap beers and seltzers are available in a 32 oz crowler at a discounted rate.   Come in today from 2-8PM\, or order ahead for pick-up on 6and40brewery.com. \n  \n  \n 
URL:https://6and40brewery.com/event/discount-any-crowler-deal/2030-10-22/
LOCATION:6 and 40 Brewery\, 883 Parfet Street\, Unit J\, Lakewood\, CO\, 80215\, United States
CATEGORIES:Beer Promotion
ATTACH;FMTTYPE=image/jpeg:https://6and40brewery.com/wp-content/uploads/2022/09/16oz.jpeg
ORGANIZER;CN="6 and 40 Brewery":MAILTO:beer@6and40brewery.com
END:VEVENT
BEGIN:VEVENT
DTSTART;TZID=America/Denver:20301028T173000
DTEND;TZID=America/Denver:20301028T200000
DTSTAMP:20260419T073132
CREATED:20260201T174438Z
LAST-MODIFIED:20260201T174438Z
UID:10003713-1919439000-1919448000@6and40brewery.com
SUMMARY:bluegrass pick
DESCRIPTION:Come and pick with us or just enjoy the pickers every Monday at 5:30.   It’s a great way to kick back on a Monday Evening. 
URL:https://6and40brewery.com/event/bluegrass-pick-2/2030-10-28/
LOCATION:6 and 40 Brewery\, 883 Parfet Street\, Unit J\, Lakewood\, CO\, 80215\, United States
CATEGORIES:Event
END:VEVENT
BEGIN:VEVENT
DTSTART;TZID=America/Denver:20301029T140000
DTEND;TZID=America/Denver:20301029T200000
DTSTAMP:20260419T073132
CREATED:20250304T005016Z
LAST-MODIFIED:20260304T180743Z
UID:10003773-1919512800-1919534400@6and40brewery.com
SUMMARY:Discounted Crowlers and $21 4-Packs All Day
DESCRIPTION:Tuesday can promotion! All 4-packs of 16 oz cans are $21\, and all on-tap beers and seltzers are available in a 32 oz crowler at a discounted rate.   Come in today from 2-8PM\, or order ahead for pick-up on 6and40brewery.com. \n  \n  \n 
URL:https://6and40brewery.com/event/discount-any-crowler-deal/2030-10-29/
LOCATION:6 and 40 Brewery\, 883 Parfet Street\, Unit J\, Lakewood\, CO\, 80215\, United States
CATEGORIES:Beer Promotion
ATTACH;FMTTYPE=image/jpeg:https://6and40brewery.com/wp-content/uploads/2022/09/16oz.jpeg
ORGANIZER;CN="6 and 40 Brewery":MAILTO:beer@6and40brewery.com
END:VEVENT
BEGIN:VEVENT
DTSTART;TZID=America/Denver:20301104T173000
DTEND;TZID=America/Denver:20301104T200000
DTSTAMP:20260419T073132
CREATED:20260201T174438Z
LAST-MODIFIED:20260201T174438Z
UID:10003714-1920043800-1920052800@6and40brewery.com
SUMMARY:bluegrass pick
DESCRIPTION:Come and pick with us or just enjoy the pickers every Monday at 5:30.   It’s a great way to kick back on a Monday Evening. 
URL:https://6and40brewery.com/event/bluegrass-pick-2/2030-11-04/
LOCATION:6 and 40 Brewery\, 883 Parfet Street\, Unit J\, Lakewood\, CO\, 80215\, United States
CATEGORIES:Event
END:VEVENT
END:VCALENDAR