BEGIN:VCALENDAR
VERSION:2.0
PRODID:-//6 and 40 Brewery - ECPv6.15.20//NONSGML v1.0//EN
CALSCALE:GREGORIAN
METHOD:PUBLISH
X-WR-CALNAME:6 and 40 Brewery
X-ORIGINAL-URL:https://6and40brewery.com
X-WR-CALDESC:Events for 6 and 40 Brewery
REFRESH-INTERVAL;VALUE=DURATION:PT1H
X-Robots-Tag:noindex
X-PUBLISHED-TTL:PT1H
BEGIN:VTIMEZONE
TZID:America/Denver
BEGIN:DAYLIGHT
TZOFFSETFROM:-0700
TZOFFSETTO:-0600
TZNAME:MDT
DTSTART:20290311T090000
END:DAYLIGHT
BEGIN:STANDARD
TZOFFSETFROM:-0600
TZOFFSETTO:-0700
TZNAME:MST
DTSTART:20291104T080000
END:STANDARD
BEGIN:DAYLIGHT
TZOFFSETFROM:-0700
TZOFFSETTO:-0600
TZNAME:MDT
DTSTART:20300310T090000
END:DAYLIGHT
BEGIN:STANDARD
TZOFFSETFROM:-0600
TZOFFSETTO:-0700
TZNAME:MST
DTSTART:20301103T080000
END:STANDARD
BEGIN:DAYLIGHT
TZOFFSETFROM:-0700
TZOFFSETTO:-0600
TZNAME:MDT
DTSTART:20310309T090000
END:DAYLIGHT
BEGIN:STANDARD
TZOFFSETFROM:-0600
TZOFFSETTO:-0700
TZNAME:MST
DTSTART:20311102T080000
END:STANDARD
BEGIN:DAYLIGHT
TZOFFSETFROM:-0700
TZOFFSETTO:-0600
TZNAME:MDT
DTSTART:20320314T090000
END:DAYLIGHT
BEGIN:STANDARD
TZOFFSETFROM:-0600
TZOFFSETTO:-0700
TZNAME:MST
DTSTART:20321107T080000
END:STANDARD
END:VTIMEZONE
BEGIN:VEVENT
DTSTART;TZID=America/Denver:20301001T140000
DTEND;TZID=America/Denver:20301001T200000
DTSTAMP:20260419T134800
CREATED:20250304T005016Z
LAST-MODIFIED:20260304T180743Z
UID:10003769-1917093600-1917115200@6and40brewery.com
SUMMARY:Discounted Crowlers and $21 4-Packs All Day
DESCRIPTION:Tuesday can promotion! All 4-packs of 16 oz cans are $21\, and all on-tap beers and seltzers are available in a 32 oz crowler at a discounted rate.   Come in today from 2-8PM\, or order ahead for pick-up on 6and40brewery.com. \n  \n  \n 
URL:https://6and40brewery.com/event/discount-any-crowler-deal/2030-10-01/
LOCATION:6 and 40 Brewery\, 883 Parfet Street\, Unit J\, Lakewood\, CO\, 80215\, United States
CATEGORIES:Beer Promotion
ATTACH;FMTTYPE=image/jpeg:https://6and40brewery.com/wp-content/uploads/2022/09/16oz.jpeg
ORGANIZER;CN="6 and 40 Brewery":MAILTO:beer@6and40brewery.com
END:VEVENT
BEGIN:VEVENT
DTSTART;TZID=America/Denver:20301007T173000
DTEND;TZID=America/Denver:20301007T200000
DTSTAMP:20260419T134800
CREATED:20260201T174438Z
LAST-MODIFIED:20260201T174438Z
UID:10003710-1917624600-1917633600@6and40brewery.com
SUMMARY:bluegrass pick
DESCRIPTION:Come and pick with us or just enjoy the pickers every Monday at 5:30.   It’s a great way to kick back on a Monday Evening. 
URL:https://6and40brewery.com/event/bluegrass-pick-2/2030-10-07/
LOCATION:6 and 40 Brewery\, 883 Parfet Street\, Unit J\, Lakewood\, CO\, 80215\, United States
CATEGORIES:Event
END:VEVENT
BEGIN:VEVENT
DTSTART;TZID=America/Denver:20301008T140000
DTEND;TZID=America/Denver:20301008T200000
DTSTAMP:20260419T134800
CREATED:20250304T005016Z
LAST-MODIFIED:20260304T180743Z
UID:10003770-1917698400-1917720000@6and40brewery.com
SUMMARY:Discounted Crowlers and $21 4-Packs All Day
DESCRIPTION:Tuesday can promotion! All 4-packs of 16 oz cans are $21\, and all on-tap beers and seltzers are available in a 32 oz crowler at a discounted rate.   Come in today from 2-8PM\, or order ahead for pick-up on 6and40brewery.com. \n  \n  \n 
URL:https://6and40brewery.com/event/discount-any-crowler-deal/2030-10-08/
LOCATION:6 and 40 Brewery\, 883 Parfet Street\, Unit J\, Lakewood\, CO\, 80215\, United States
CATEGORIES:Beer Promotion
ATTACH;FMTTYPE=image/jpeg:https://6and40brewery.com/wp-content/uploads/2022/09/16oz.jpeg
ORGANIZER;CN="6 and 40 Brewery":MAILTO:beer@6and40brewery.com
END:VEVENT
BEGIN:VEVENT
DTSTART;TZID=America/Denver:20301014T173000
DTEND;TZID=America/Denver:20301014T200000
DTSTAMP:20260419T134800
CREATED:20260201T174438Z
LAST-MODIFIED:20260201T174438Z
UID:10003711-1918229400-1918238400@6and40brewery.com
SUMMARY:bluegrass pick
DESCRIPTION:Come and pick with us or just enjoy the pickers every Monday at 5:30.   It’s a great way to kick back on a Monday Evening. 
URL:https://6and40brewery.com/event/bluegrass-pick-2/2030-10-14/
LOCATION:6 and 40 Brewery\, 883 Parfet Street\, Unit J\, Lakewood\, CO\, 80215\, United States
CATEGORIES:Event
END:VEVENT
BEGIN:VEVENT
DTSTART;TZID=America/Denver:20301015T140000
DTEND;TZID=America/Denver:20301015T200000
DTSTAMP:20260419T134800
CREATED:20250304T005016Z
LAST-MODIFIED:20260304T180743Z
UID:10003771-1918303200-1918324800@6and40brewery.com
SUMMARY:Discounted Crowlers and $21 4-Packs All Day
DESCRIPTION:Tuesday can promotion! All 4-packs of 16 oz cans are $21\, and all on-tap beers and seltzers are available in a 32 oz crowler at a discounted rate.   Come in today from 2-8PM\, or order ahead for pick-up on 6and40brewery.com. \n  \n  \n 
URL:https://6and40brewery.com/event/discount-any-crowler-deal/2030-10-15/
LOCATION:6 and 40 Brewery\, 883 Parfet Street\, Unit J\, Lakewood\, CO\, 80215\, United States
CATEGORIES:Beer Promotion
ATTACH;FMTTYPE=image/jpeg:https://6and40brewery.com/wp-content/uploads/2022/09/16oz.jpeg
ORGANIZER;CN="6 and 40 Brewery":MAILTO:beer@6and40brewery.com
END:VEVENT
BEGIN:VEVENT
DTSTART;TZID=America/Denver:20301021T173000
DTEND;TZID=America/Denver:20301021T200000
DTSTAMP:20260419T134800
CREATED:20260201T174438Z
LAST-MODIFIED:20260201T174438Z
UID:10003712-1918834200-1918843200@6and40brewery.com
SUMMARY:bluegrass pick
DESCRIPTION:Come and pick with us or just enjoy the pickers every Monday at 5:30.   It’s a great way to kick back on a Monday Evening. 
URL:https://6and40brewery.com/event/bluegrass-pick-2/2030-10-21/
LOCATION:6 and 40 Brewery\, 883 Parfet Street\, Unit J\, Lakewood\, CO\, 80215\, United States
CATEGORIES:Event
END:VEVENT
BEGIN:VEVENT
DTSTART;TZID=America/Denver:20301022T140000
DTEND;TZID=America/Denver:20301022T200000
DTSTAMP:20260419T134800
CREATED:20250304T005016Z
LAST-MODIFIED:20260304T180743Z
UID:10003772-1918908000-1918929600@6and40brewery.com
SUMMARY:Discounted Crowlers and $21 4-Packs All Day
DESCRIPTION:Tuesday can promotion! All 4-packs of 16 oz cans are $21\, and all on-tap beers and seltzers are available in a 32 oz crowler at a discounted rate.   Come in today from 2-8PM\, or order ahead for pick-up on 6and40brewery.com. \n  \n  \n 
URL:https://6and40brewery.com/event/discount-any-crowler-deal/2030-10-22/
LOCATION:6 and 40 Brewery\, 883 Parfet Street\, Unit J\, Lakewood\, CO\, 80215\, United States
CATEGORIES:Beer Promotion
ATTACH;FMTTYPE=image/jpeg:https://6and40brewery.com/wp-content/uploads/2022/09/16oz.jpeg
ORGANIZER;CN="6 and 40 Brewery":MAILTO:beer@6and40brewery.com
END:VEVENT
BEGIN:VEVENT
DTSTART;TZID=America/Denver:20301028T173000
DTEND;TZID=America/Denver:20301028T200000
DTSTAMP:20260419T134800
CREATED:20260201T174438Z
LAST-MODIFIED:20260201T174438Z
UID:10003713-1919439000-1919448000@6and40brewery.com
SUMMARY:bluegrass pick
DESCRIPTION:Come and pick with us or just enjoy the pickers every Monday at 5:30.   It’s a great way to kick back on a Monday Evening. 
URL:https://6and40brewery.com/event/bluegrass-pick-2/2030-10-28/
LOCATION:6 and 40 Brewery\, 883 Parfet Street\, Unit J\, Lakewood\, CO\, 80215\, United States
CATEGORIES:Event
END:VEVENT
BEGIN:VEVENT
DTSTART;TZID=America/Denver:20301029T140000
DTEND;TZID=America/Denver:20301029T200000
DTSTAMP:20260419T134800
CREATED:20250304T005016Z
LAST-MODIFIED:20260304T180743Z
UID:10003773-1919512800-1919534400@6and40brewery.com
SUMMARY:Discounted Crowlers and $21 4-Packs All Day
DESCRIPTION:Tuesday can promotion! All 4-packs of 16 oz cans are $21\, and all on-tap beers and seltzers are available in a 32 oz crowler at a discounted rate.   Come in today from 2-8PM\, or order ahead for pick-up on 6and40brewery.com. \n  \n  \n 
URL:https://6and40brewery.com/event/discount-any-crowler-deal/2030-10-29/
LOCATION:6 and 40 Brewery\, 883 Parfet Street\, Unit J\, Lakewood\, CO\, 80215\, United States
CATEGORIES:Beer Promotion
ATTACH;FMTTYPE=image/jpeg:https://6and40brewery.com/wp-content/uploads/2022/09/16oz.jpeg
ORGANIZER;CN="6 and 40 Brewery":MAILTO:beer@6and40brewery.com
END:VEVENT
BEGIN:VEVENT
DTSTART;TZID=America/Denver:20301104T173000
DTEND;TZID=America/Denver:20301104T200000
DTSTAMP:20260419T134800
CREATED:20260201T174438Z
LAST-MODIFIED:20260201T174438Z
UID:10003714-1920043800-1920052800@6and40brewery.com
SUMMARY:bluegrass pick
DESCRIPTION:Come and pick with us or just enjoy the pickers every Monday at 5:30.   It’s a great way to kick back on a Monday Evening. 
URL:https://6and40brewery.com/event/bluegrass-pick-2/2030-11-04/
LOCATION:6 and 40 Brewery\, 883 Parfet Street\, Unit J\, Lakewood\, CO\, 80215\, United States
CATEGORIES:Event
END:VEVENT
BEGIN:VEVENT
DTSTART;TZID=America/Denver:20301105T140000
DTEND;TZID=America/Denver:20301105T200000
DTSTAMP:20260419T134800
CREATED:20250304T005016Z
LAST-MODIFIED:20260304T180743Z
UID:10003774-1920117600-1920139200@6and40brewery.com
SUMMARY:Discounted Crowlers and $21 4-Packs All Day
DESCRIPTION:Tuesday can promotion! All 4-packs of 16 oz cans are $21\, and all on-tap beers and seltzers are available in a 32 oz crowler at a discounted rate.   Come in today from 2-8PM\, or order ahead for pick-up on 6and40brewery.com. \n  \n  \n 
URL:https://6and40brewery.com/event/discount-any-crowler-deal/2030-11-05/
LOCATION:6 and 40 Brewery\, 883 Parfet Street\, Unit J\, Lakewood\, CO\, 80215\, United States
CATEGORIES:Beer Promotion
ATTACH;FMTTYPE=image/jpeg:https://6and40brewery.com/wp-content/uploads/2022/09/16oz.jpeg
ORGANIZER;CN="6 and 40 Brewery":MAILTO:beer@6and40brewery.com
END:VEVENT
BEGIN:VEVENT
DTSTART;TZID=America/Denver:20301111T173000
DTEND;TZID=America/Denver:20301111T200000
DTSTAMP:20260419T134800
CREATED:20260201T174438Z
LAST-MODIFIED:20260201T174438Z
UID:10003715-1920648600-1920657600@6and40brewery.com
SUMMARY:bluegrass pick
DESCRIPTION:Come and pick with us or just enjoy the pickers every Monday at 5:30.   It’s a great way to kick back on a Monday Evening. 
URL:https://6and40brewery.com/event/bluegrass-pick-2/2030-11-11/
LOCATION:6 and 40 Brewery\, 883 Parfet Street\, Unit J\, Lakewood\, CO\, 80215\, United States
CATEGORIES:Event
END:VEVENT
BEGIN:VEVENT
DTSTART;TZID=America/Denver:20301112T140000
DTEND;TZID=America/Denver:20301112T200000
DTSTAMP:20260419T134800
CREATED:20250304T005016Z
LAST-MODIFIED:20260304T180743Z
UID:10003775-1920722400-1920744000@6and40brewery.com
SUMMARY:Discounted Crowlers and $21 4-Packs All Day
DESCRIPTION:Tuesday can promotion! All 4-packs of 16 oz cans are $21\, and all on-tap beers and seltzers are available in a 32 oz crowler at a discounted rate.   Come in today from 2-8PM\, or order ahead for pick-up on 6and40brewery.com. \n  \n  \n 
URL:https://6and40brewery.com/event/discount-any-crowler-deal/2030-11-12/
LOCATION:6 and 40 Brewery\, 883 Parfet Street\, Unit J\, Lakewood\, CO\, 80215\, United States
CATEGORIES:Beer Promotion
ATTACH;FMTTYPE=image/jpeg:https://6and40brewery.com/wp-content/uploads/2022/09/16oz.jpeg
ORGANIZER;CN="6 and 40 Brewery":MAILTO:beer@6and40brewery.com
END:VEVENT
BEGIN:VEVENT
DTSTART;TZID=America/Denver:20301118T173000
DTEND;TZID=America/Denver:20301118T200000
DTSTAMP:20260419T134800
CREATED:20260201T174438Z
LAST-MODIFIED:20260201T174438Z
UID:10003716-1921253400-1921262400@6and40brewery.com
SUMMARY:bluegrass pick
DESCRIPTION:Come and pick with us or just enjoy the pickers every Monday at 5:30.   It’s a great way to kick back on a Monday Evening. 
URL:https://6and40brewery.com/event/bluegrass-pick-2/2030-11-18/
LOCATION:6 and 40 Brewery\, 883 Parfet Street\, Unit J\, Lakewood\, CO\, 80215\, United States
CATEGORIES:Event
END:VEVENT
BEGIN:VEVENT
DTSTART;TZID=America/Denver:20301119T140000
DTEND;TZID=America/Denver:20301119T200000
DTSTAMP:20260419T134800
CREATED:20250304T005016Z
LAST-MODIFIED:20260304T180743Z
UID:10003776-1921327200-1921348800@6and40brewery.com
SUMMARY:Discounted Crowlers and $21 4-Packs All Day
DESCRIPTION:Tuesday can promotion! All 4-packs of 16 oz cans are $21\, and all on-tap beers and seltzers are available in a 32 oz crowler at a discounted rate.   Come in today from 2-8PM\, or order ahead for pick-up on 6and40brewery.com. \n  \n  \n 
URL:https://6and40brewery.com/event/discount-any-crowler-deal/2030-11-19/
LOCATION:6 and 40 Brewery\, 883 Parfet Street\, Unit J\, Lakewood\, CO\, 80215\, United States
CATEGORIES:Beer Promotion
ATTACH;FMTTYPE=image/jpeg:https://6and40brewery.com/wp-content/uploads/2022/09/16oz.jpeg
ORGANIZER;CN="6 and 40 Brewery":MAILTO:beer@6and40brewery.com
END:VEVENT
BEGIN:VEVENT
DTSTART;TZID=America/Denver:20301125T173000
DTEND;TZID=America/Denver:20301125T200000
DTSTAMP:20260419T134801
CREATED:20260201T174438Z
LAST-MODIFIED:20260201T174438Z
UID:10003717-1921858200-1921867200@6and40brewery.com
SUMMARY:bluegrass pick
DESCRIPTION:Come and pick with us or just enjoy the pickers every Monday at 5:30.   It’s a great way to kick back on a Monday Evening. 
URL:https://6and40brewery.com/event/bluegrass-pick-2/2030-11-25/
LOCATION:6 and 40 Brewery\, 883 Parfet Street\, Unit J\, Lakewood\, CO\, 80215\, United States
CATEGORIES:Event
END:VEVENT
BEGIN:VEVENT
DTSTART;TZID=America/Denver:20301126T140000
DTEND;TZID=America/Denver:20301126T200000
DTSTAMP:20260419T134801
CREATED:20250304T005016Z
LAST-MODIFIED:20260304T180743Z
UID:10003777-1921932000-1921953600@6and40brewery.com
SUMMARY:Discounted Crowlers and $21 4-Packs All Day
DESCRIPTION:Tuesday can promotion! All 4-packs of 16 oz cans are $21\, and all on-tap beers and seltzers are available in a 32 oz crowler at a discounted rate.   Come in today from 2-8PM\, or order ahead for pick-up on 6and40brewery.com. \n  \n  \n 
URL:https://6and40brewery.com/event/discount-any-crowler-deal/2030-11-26/
LOCATION:6 and 40 Brewery\, 883 Parfet Street\, Unit J\, Lakewood\, CO\, 80215\, United States
CATEGORIES:Beer Promotion
ATTACH;FMTTYPE=image/jpeg:https://6and40brewery.com/wp-content/uploads/2022/09/16oz.jpeg
ORGANIZER;CN="6 and 40 Brewery":MAILTO:beer@6and40brewery.com
END:VEVENT
BEGIN:VEVENT
DTSTART;TZID=America/Denver:20301202T173000
DTEND;TZID=America/Denver:20301202T200000
DTSTAMP:20260419T134801
CREATED:20260201T174438Z
LAST-MODIFIED:20260201T174438Z
UID:10003718-1922463000-1922472000@6and40brewery.com
SUMMARY:bluegrass pick
DESCRIPTION:Come and pick with us or just enjoy the pickers every Monday at 5:30.   It’s a great way to kick back on a Monday Evening. 
URL:https://6and40brewery.com/event/bluegrass-pick-2/2030-12-02/
LOCATION:6 and 40 Brewery\, 883 Parfet Street\, Unit J\, Lakewood\, CO\, 80215\, United States
CATEGORIES:Event
END:VEVENT
BEGIN:VEVENT
DTSTART;TZID=America/Denver:20301203T140000
DTEND;TZID=America/Denver:20301203T200000
DTSTAMP:20260419T134801
CREATED:20250304T005016Z
LAST-MODIFIED:20260304T180743Z
UID:10003778-1922536800-1922558400@6and40brewery.com
SUMMARY:Discounted Crowlers and $21 4-Packs All Day
DESCRIPTION:Tuesday can promotion! All 4-packs of 16 oz cans are $21\, and all on-tap beers and seltzers are available in a 32 oz crowler at a discounted rate.   Come in today from 2-8PM\, or order ahead for pick-up on 6and40brewery.com. \n  \n  \n 
URL:https://6and40brewery.com/event/discount-any-crowler-deal/2030-12-03/
LOCATION:6 and 40 Brewery\, 883 Parfet Street\, Unit J\, Lakewood\, CO\, 80215\, United States
CATEGORIES:Beer Promotion
ATTACH;FMTTYPE=image/jpeg:https://6and40brewery.com/wp-content/uploads/2022/09/16oz.jpeg
ORGANIZER;CN="6 and 40 Brewery":MAILTO:beer@6and40brewery.com
END:VEVENT
BEGIN:VEVENT
DTSTART;TZID=America/Denver:20301209T173000
DTEND;TZID=America/Denver:20301209T200000
DTSTAMP:20260419T134801
CREATED:20260201T174438Z
LAST-MODIFIED:20260201T174438Z
UID:10003719-1923067800-1923076800@6and40brewery.com
SUMMARY:bluegrass pick
DESCRIPTION:Come and pick with us or just enjoy the pickers every Monday at 5:30.   It’s a great way to kick back on a Monday Evening. 
URL:https://6and40brewery.com/event/bluegrass-pick-2/2030-12-09/
LOCATION:6 and 40 Brewery\, 883 Parfet Street\, Unit J\, Lakewood\, CO\, 80215\, United States
CATEGORIES:Event
END:VEVENT
BEGIN:VEVENT
DTSTART;TZID=America/Denver:20301210T140000
DTEND;TZID=America/Denver:20301210T200000
DTSTAMP:20260419T134801
CREATED:20250304T005016Z
LAST-MODIFIED:20260304T180743Z
UID:10003779-1923141600-1923163200@6and40brewery.com
SUMMARY:Discounted Crowlers and $21 4-Packs All Day
DESCRIPTION:Tuesday can promotion! All 4-packs of 16 oz cans are $21\, and all on-tap beers and seltzers are available in a 32 oz crowler at a discounted rate.   Come in today from 2-8PM\, or order ahead for pick-up on 6and40brewery.com. \n  \n  \n 
URL:https://6and40brewery.com/event/discount-any-crowler-deal/2030-12-10/
LOCATION:6 and 40 Brewery\, 883 Parfet Street\, Unit J\, Lakewood\, CO\, 80215\, United States
CATEGORIES:Beer Promotion
ATTACH;FMTTYPE=image/jpeg:https://6and40brewery.com/wp-content/uploads/2022/09/16oz.jpeg
ORGANIZER;CN="6 and 40 Brewery":MAILTO:beer@6and40brewery.com
END:VEVENT
BEGIN:VEVENT
DTSTART;TZID=America/Denver:20301216T173000
DTEND;TZID=America/Denver:20301216T200000
DTSTAMP:20260419T134801
CREATED:20260201T174438Z
LAST-MODIFIED:20260201T174438Z
UID:10003720-1923672600-1923681600@6and40brewery.com
SUMMARY:bluegrass pick
DESCRIPTION:Come and pick with us or just enjoy the pickers every Monday at 5:30.   It’s a great way to kick back on a Monday Evening. 
URL:https://6and40brewery.com/event/bluegrass-pick-2/2030-12-16/
LOCATION:6 and 40 Brewery\, 883 Parfet Street\, Unit J\, Lakewood\, CO\, 80215\, United States
CATEGORIES:Event
END:VEVENT
BEGIN:VEVENT
DTSTART;TZID=America/Denver:20301217T140000
DTEND;TZID=America/Denver:20301217T200000
DTSTAMP:20260419T134801
CREATED:20250304T005016Z
LAST-MODIFIED:20260304T180743Z
UID:10003780-1923746400-1923768000@6and40brewery.com
SUMMARY:Discounted Crowlers and $21 4-Packs All Day
DESCRIPTION:Tuesday can promotion! All 4-packs of 16 oz cans are $21\, and all on-tap beers and seltzers are available in a 32 oz crowler at a discounted rate.   Come in today from 2-8PM\, or order ahead for pick-up on 6and40brewery.com. \n  \n  \n 
URL:https://6and40brewery.com/event/discount-any-crowler-deal/2030-12-17/
LOCATION:6 and 40 Brewery\, 883 Parfet Street\, Unit J\, Lakewood\, CO\, 80215\, United States
CATEGORIES:Beer Promotion
ATTACH;FMTTYPE=image/jpeg:https://6and40brewery.com/wp-content/uploads/2022/09/16oz.jpeg
ORGANIZER;CN="6 and 40 Brewery":MAILTO:beer@6and40brewery.com
END:VEVENT
BEGIN:VEVENT
DTSTART;TZID=America/Denver:20301223T173000
DTEND;TZID=America/Denver:20301223T200000
DTSTAMP:20260419T134801
CREATED:20260201T174438Z
LAST-MODIFIED:20260201T174438Z
UID:10003721-1924277400-1924286400@6and40brewery.com
SUMMARY:bluegrass pick
DESCRIPTION:Come and pick with us or just enjoy the pickers every Monday at 5:30.   It’s a great way to kick back on a Monday Evening. 
URL:https://6and40brewery.com/event/bluegrass-pick-2/2030-12-23/
LOCATION:6 and 40 Brewery\, 883 Parfet Street\, Unit J\, Lakewood\, CO\, 80215\, United States
CATEGORIES:Event
END:VEVENT
BEGIN:VEVENT
DTSTART;TZID=America/Denver:20301224T140000
DTEND;TZID=America/Denver:20301224T200000
DTSTAMP:20260419T134801
CREATED:20250304T005016Z
LAST-MODIFIED:20260304T180743Z
UID:10003781-1924351200-1924372800@6and40brewery.com
SUMMARY:Discounted Crowlers and $21 4-Packs All Day
DESCRIPTION:Tuesday can promotion! All 4-packs of 16 oz cans are $21\, and all on-tap beers and seltzers are available in a 32 oz crowler at a discounted rate.   Come in today from 2-8PM\, or order ahead for pick-up on 6and40brewery.com. \n  \n  \n 
URL:https://6and40brewery.com/event/discount-any-crowler-deal/2030-12-24/
LOCATION:6 and 40 Brewery\, 883 Parfet Street\, Unit J\, Lakewood\, CO\, 80215\, United States
CATEGORIES:Beer Promotion
ATTACH;FMTTYPE=image/jpeg:https://6and40brewery.com/wp-content/uploads/2022/09/16oz.jpeg
ORGANIZER;CN="6 and 40 Brewery":MAILTO:beer@6and40brewery.com
END:VEVENT
BEGIN:VEVENT
DTSTART;TZID=America/Denver:20301230T173000
DTEND;TZID=America/Denver:20301230T200000
DTSTAMP:20260419T134801
CREATED:20260201T174438Z
LAST-MODIFIED:20260201T174438Z
UID:10003722-1924882200-1924891200@6and40brewery.com
SUMMARY:bluegrass pick
DESCRIPTION:Come and pick with us or just enjoy the pickers every Monday at 5:30.   It’s a great way to kick back on a Monday Evening. 
URL:https://6and40brewery.com/event/bluegrass-pick-2/2030-12-30/
LOCATION:6 and 40 Brewery\, 883 Parfet Street\, Unit J\, Lakewood\, CO\, 80215\, United States
CATEGORIES:Event
END:VEVENT
BEGIN:VEVENT
DTSTART;TZID=America/Denver:20301231T140000
DTEND;TZID=America/Denver:20301231T200000
DTSTAMP:20260419T134801
CREATED:20250304T005016Z
LAST-MODIFIED:20260304T180743Z
UID:10003782-1924956000-1924977600@6and40brewery.com
SUMMARY:Discounted Crowlers and $21 4-Packs All Day
DESCRIPTION:Tuesday can promotion! All 4-packs of 16 oz cans are $21\, and all on-tap beers and seltzers are available in a 32 oz crowler at a discounted rate.   Come in today from 2-8PM\, or order ahead for pick-up on 6and40brewery.com. \n  \n  \n 
URL:https://6and40brewery.com/event/discount-any-crowler-deal/2030-12-31/
LOCATION:6 and 40 Brewery\, 883 Parfet Street\, Unit J\, Lakewood\, CO\, 80215\, United States
CATEGORIES:Beer Promotion
ATTACH;FMTTYPE=image/jpeg:https://6and40brewery.com/wp-content/uploads/2022/09/16oz.jpeg
ORGANIZER;CN="6 and 40 Brewery":MAILTO:beer@6and40brewery.com
END:VEVENT
BEGIN:VEVENT
DTSTART;TZID=America/Denver:20310106T173000
DTEND;TZID=America/Denver:20310106T200000
DTSTAMP:20260419T134801
CREATED:20260201T174438Z
LAST-MODIFIED:20260201T174438Z
UID:10003723-1925487000-1925496000@6and40brewery.com
SUMMARY:bluegrass pick
DESCRIPTION:Come and pick with us or just enjoy the pickers every Monday at 5:30.   It’s a great way to kick back on a Monday Evening. 
URL:https://6and40brewery.com/event/bluegrass-pick-2/2031-01-06/
LOCATION:6 and 40 Brewery\, 883 Parfet Street\, Unit J\, Lakewood\, CO\, 80215\, United States
CATEGORIES:Event
END:VEVENT
BEGIN:VEVENT
DTSTART;TZID=America/Denver:20310107T140000
DTEND;TZID=America/Denver:20310107T200000
DTSTAMP:20260419T134801
CREATED:20250304T005016Z
LAST-MODIFIED:20260304T180743Z
UID:10003783-1925560800-1925582400@6and40brewery.com
SUMMARY:Discounted Crowlers and $21 4-Packs All Day
DESCRIPTION:Tuesday can promotion! All 4-packs of 16 oz cans are $21\, and all on-tap beers and seltzers are available in a 32 oz crowler at a discounted rate.   Come in today from 2-8PM\, or order ahead for pick-up on 6and40brewery.com. \n  \n  \n 
URL:https://6and40brewery.com/event/discount-any-crowler-deal/2031-01-07/
LOCATION:6 and 40 Brewery\, 883 Parfet Street\, Unit J\, Lakewood\, CO\, 80215\, United States
CATEGORIES:Beer Promotion
ATTACH;FMTTYPE=image/jpeg:https://6and40brewery.com/wp-content/uploads/2022/09/16oz.jpeg
ORGANIZER;CN="6 and 40 Brewery":MAILTO:beer@6and40brewery.com
END:VEVENT
BEGIN:VEVENT
DTSTART;TZID=America/Denver:20310113T173000
DTEND;TZID=America/Denver:20310113T200000
DTSTAMP:20260419T134801
CREATED:20260201T174438Z
LAST-MODIFIED:20260201T174438Z
UID:10003724-1926091800-1926100800@6and40brewery.com
SUMMARY:bluegrass pick
DESCRIPTION:Come and pick with us or just enjoy the pickers every Monday at 5:30.   It’s a great way to kick back on a Monday Evening. 
URL:https://6and40brewery.com/event/bluegrass-pick-2/2031-01-13/
LOCATION:6 and 40 Brewery\, 883 Parfet Street\, Unit J\, Lakewood\, CO\, 80215\, United States
CATEGORIES:Event
END:VEVENT
END:VCALENDAR