BEGIN:VCALENDAR
VERSION:2.0
PRODID:-//6 and 40 Brewery - ECPv6.15.20//NONSGML v1.0//EN
CALSCALE:GREGORIAN
METHOD:PUBLISH
X-ORIGINAL-URL:https://6and40brewery.com
X-WR-CALDESC:Events for 6 and 40 Brewery
REFRESH-INTERVAL;VALUE=DURATION:PT1H
X-Robots-Tag:noindex
X-PUBLISHED-TTL:PT1H
BEGIN:VTIMEZONE
TZID:America/Denver
BEGIN:DAYLIGHT
TZOFFSETFROM:-0700
TZOFFSETTO:-0600
TZNAME:MDT
DTSTART:20240310T090000
END:DAYLIGHT
BEGIN:STANDARD
TZOFFSETFROM:-0600
TZOFFSETTO:-0700
TZNAME:MST
DTSTART:20241103T080000
END:STANDARD
BEGIN:DAYLIGHT
TZOFFSETFROM:-0700
TZOFFSETTO:-0600
TZNAME:MDT
DTSTART:20250309T090000
END:DAYLIGHT
BEGIN:STANDARD
TZOFFSETFROM:-0600
TZOFFSETTO:-0700
TZNAME:MST
DTSTART:20251102T080000
END:STANDARD
BEGIN:DAYLIGHT
TZOFFSETFROM:-0700
TZOFFSETTO:-0600
TZNAME:MDT
DTSTART:20260308T090000
END:DAYLIGHT
BEGIN:STANDARD
TZOFFSETFROM:-0600
TZOFFSETTO:-0700
TZNAME:MST
DTSTART:20261101T080000
END:STANDARD
END:VTIMEZONE
BEGIN:VEVENT
DTSTART;TZID=America/Denver:20251003T160000
DTEND;TZID=America/Denver:20251003T200000
DTSTAMP:20260424T104006
CREATED:20250829T203319Z
LAST-MODIFIED:20250929T182738Z
UID:10003408-1759507200-1759521600@6and40brewery.com
SUMMARY:The Pink Elephant
DESCRIPTION:The Pink Elephant food truck is a great place to eat if you’re in the mood for all things fried/bar food.  With an extensive menu from burgers\, brats\, tacos and more\, there’s something for everyone. 
URL:https://6and40brewery.com/event/the-pink-elephant/2025-10-03/
LOCATION:6 and 40 Brewery\, 883 Parfet Street\, Unit J\, Lakewood\, CO\, 80215\, United States
CATEGORIES:Food Trucks
ORGANIZER;CN="The Pink Elephant":MAILTO:jennychitwood46@gmail.com
END:VEVENT
BEGIN:VEVENT
DTSTART;TZID=America/Denver:20251009T160000
DTEND;TZID=America/Denver:20251009T200000
DTSTAMP:20260424T104006
CREATED:20250829T203319Z
LAST-MODIFIED:20250929T182738Z
UID:10003409-1760025600-1760040000@6and40brewery.com
SUMMARY:The Pink Elephant
DESCRIPTION:The Pink Elephant food truck is a great place to eat if you’re in the mood for all things fried/bar food.  With an extensive menu from burgers\, brats\, tacos and more\, there’s something for everyone. 
URL:https://6and40brewery.com/event/the-pink-elephant/2025-10-09/
LOCATION:6 and 40 Brewery\, 883 Parfet Street\, Unit J\, Lakewood\, CO\, 80215\, United States
CATEGORIES:Food Trucks
ORGANIZER;CN="The Pink Elephant":MAILTO:jennychitwood46@gmail.com
END:VEVENT
END:VCALENDAR