BEGIN:VCALENDAR
VERSION:2.0
PRODID:-//6 and 40 Brewery - ECPv6.15.20//NONSGML v1.0//EN
CALSCALE:GREGORIAN
METHOD:PUBLISH
X-WR-CALNAME:6 and 40 Brewery
X-ORIGINAL-URL:https://6and40brewery.com
X-WR-CALDESC:Events for 6 and 40 Brewery
REFRESH-INTERVAL;VALUE=DURATION:PT1H
X-Robots-Tag:noindex
X-PUBLISHED-TTL:PT1H
BEGIN:VTIMEZONE
TZID:America/Denver
BEGIN:DAYLIGHT
TZOFFSETFROM:-0700
TZOFFSETTO:-0600
TZNAME:MDT
DTSTART:20250309T090000
END:DAYLIGHT
BEGIN:STANDARD
TZOFFSETFROM:-0600
TZOFFSETTO:-0700
TZNAME:MST
DTSTART:20251102T080000
END:STANDARD
BEGIN:DAYLIGHT
TZOFFSETFROM:-0700
TZOFFSETTO:-0600
TZNAME:MDT
DTSTART:20260308T090000
END:DAYLIGHT
BEGIN:STANDARD
TZOFFSETFROM:-0600
TZOFFSETTO:-0700
TZNAME:MST
DTSTART:20261101T080000
END:STANDARD
BEGIN:DAYLIGHT
TZOFFSETFROM:-0700
TZOFFSETTO:-0600
TZNAME:MDT
DTSTART:20270314T090000
END:DAYLIGHT
BEGIN:STANDARD
TZOFFSETFROM:-0600
TZOFFSETTO:-0700
TZNAME:MST
DTSTART:20271107T080000
END:STANDARD
END:VTIMEZONE
BEGIN:VEVENT
DTSTART;TZID=America/Denver:20260706T173000
DTEND;TZID=America/Denver:20260706T200000
DTSTAMP:20260420T085726
CREATED:20260201T174438Z
LAST-MODIFIED:20260201T174438Z
UID:10003488-1783359000-1783368000@6and40brewery.com
SUMMARY:bluegrass pick
DESCRIPTION:Come and pick with us or just enjoy the pickers every Monday at 5:30.   It’s a great way to kick back on a Monday Evening. 
URL:https://6and40brewery.com/event/bluegrass-pick-2/2026-07-06/
LOCATION:6 and 40 Brewery\, 883 Parfet Street\, Unit J\, Lakewood\, CO\, 80215\, United States
CATEGORIES:Event
END:VEVENT
BEGIN:VEVENT
DTSTART;TZID=America/Denver:20260713T173000
DTEND;TZID=America/Denver:20260713T200000
DTSTAMP:20260420T085726
CREATED:20260201T174438Z
LAST-MODIFIED:20260201T174438Z
UID:10003489-1783963800-1783972800@6and40brewery.com
SUMMARY:bluegrass pick
DESCRIPTION:Come and pick with us or just enjoy the pickers every Monday at 5:30.   It’s a great way to kick back on a Monday Evening. 
URL:https://6and40brewery.com/event/bluegrass-pick-2/2026-07-13/
LOCATION:6 and 40 Brewery\, 883 Parfet Street\, Unit J\, Lakewood\, CO\, 80215\, United States
CATEGORIES:Event
END:VEVENT
BEGIN:VEVENT
DTSTART;TZID=America/Denver:20260720T173000
DTEND;TZID=America/Denver:20260720T200000
DTSTAMP:20260420T085726
CREATED:20260201T174438Z
LAST-MODIFIED:20260201T174438Z
UID:10003490-1784568600-1784577600@6and40brewery.com
SUMMARY:bluegrass pick
DESCRIPTION:Come and pick with us or just enjoy the pickers every Monday at 5:30.   It’s a great way to kick back on a Monday Evening. 
URL:https://6and40brewery.com/event/bluegrass-pick-2/2026-07-20/
LOCATION:6 and 40 Brewery\, 883 Parfet Street\, Unit J\, Lakewood\, CO\, 80215\, United States
CATEGORIES:Event
END:VEVENT
BEGIN:VEVENT
DTSTART;TZID=America/Denver:20260727T173000
DTEND;TZID=America/Denver:20260727T200000
DTSTAMP:20260420T085726
CREATED:20260201T174438Z
LAST-MODIFIED:20260201T174438Z
UID:10003491-1785173400-1785182400@6and40brewery.com
SUMMARY:bluegrass pick
DESCRIPTION:Come and pick with us or just enjoy the pickers every Monday at 5:30.   It’s a great way to kick back on a Monday Evening. 
URL:https://6and40brewery.com/event/bluegrass-pick-2/2026-07-27/
LOCATION:6 and 40 Brewery\, 883 Parfet Street\, Unit J\, Lakewood\, CO\, 80215\, United States
CATEGORIES:Event
END:VEVENT
END:VCALENDAR