BEGIN:VCALENDAR
VERSION:2.0
PRODID:-//6 and 40 Brewery - ECPv6.15.20//NONSGML v1.0//EN
CALSCALE:GREGORIAN
METHOD:PUBLISH
X-ORIGINAL-URL:https://6and40brewery.com
X-WR-CALDESC:Events for 6 and 40 Brewery
REFRESH-INTERVAL;VALUE=DURATION:PT1H
X-Robots-Tag:noindex
X-PUBLISHED-TTL:PT1H
BEGIN:VTIMEZONE
TZID:America/Denver
BEGIN:DAYLIGHT
TZOFFSETFROM:-0700
TZOFFSETTO:-0600
TZNAME:MDT
DTSTART:20260308T090000
END:DAYLIGHT
BEGIN:STANDARD
TZOFFSETFROM:-0600
TZOFFSETTO:-0700
TZNAME:MST
DTSTART:20261101T080000
END:STANDARD
BEGIN:DAYLIGHT
TZOFFSETFROM:-0700
TZOFFSETTO:-0600
TZNAME:MDT
DTSTART:20270314T090000
END:DAYLIGHT
BEGIN:STANDARD
TZOFFSETFROM:-0600
TZOFFSETTO:-0700
TZNAME:MST
DTSTART:20271107T080000
END:STANDARD
BEGIN:DAYLIGHT
TZOFFSETFROM:-0700
TZOFFSETTO:-0600
TZNAME:MDT
DTSTART:20280312T090000
END:DAYLIGHT
BEGIN:STANDARD
TZOFFSETFROM:-0600
TZOFFSETTO:-0700
TZNAME:MST
DTSTART:20281105T080000
END:STANDARD
END:VTIMEZONE
BEGIN:VEVENT
DTSTART;TZID=America/Denver:20270201T173000
DTEND;TZID=America/Denver:20270201T200000
DTSTAMP:20260424T112927
CREATED:20260201T174438Z
LAST-MODIFIED:20260201T174438Z
UID:10003518-1801503000-1801512000@6and40brewery.com
SUMMARY:bluegrass pick
DESCRIPTION:Come and pick with us or just enjoy the pickers every Monday at 5:30.   It’s a great way to kick back on a Monday Evening. 
URL:https://6and40brewery.com/event/bluegrass-pick-2/2027-02-01/
LOCATION:6 and 40 Brewery\, 883 Parfet Street\, Unit J\, Lakewood\, CO\, 80215\, United States
CATEGORIES:Event
END:VEVENT
BEGIN:VEVENT
DTSTART;TZID=America/Denver:20270208T173000
DTEND;TZID=America/Denver:20270208T200000
DTSTAMP:20260424T112927
CREATED:20260201T174438Z
LAST-MODIFIED:20260201T174438Z
UID:10003519-1802107800-1802116800@6and40brewery.com
SUMMARY:bluegrass pick
DESCRIPTION:Come and pick with us or just enjoy the pickers every Monday at 5:30.   It’s a great way to kick back on a Monday Evening. 
URL:https://6and40brewery.com/event/bluegrass-pick-2/2027-02-08/
LOCATION:6 and 40 Brewery\, 883 Parfet Street\, Unit J\, Lakewood\, CO\, 80215\, United States
CATEGORIES:Event
END:VEVENT
BEGIN:VEVENT
DTSTART;TZID=America/Denver:20270215T173000
DTEND;TZID=America/Denver:20270215T200000
DTSTAMP:20260424T112927
CREATED:20260201T174438Z
LAST-MODIFIED:20260201T174438Z
UID:10003520-1802712600-1802721600@6and40brewery.com
SUMMARY:bluegrass pick
DESCRIPTION:Come and pick with us or just enjoy the pickers every Monday at 5:30.   It’s a great way to kick back on a Monday Evening. 
URL:https://6and40brewery.com/event/bluegrass-pick-2/2027-02-15/
LOCATION:6 and 40 Brewery\, 883 Parfet Street\, Unit J\, Lakewood\, CO\, 80215\, United States
CATEGORIES:Event
END:VEVENT
BEGIN:VEVENT
DTSTART;TZID=America/Denver:20270222T173000
DTEND;TZID=America/Denver:20270222T200000
DTSTAMP:20260424T112927
CREATED:20260201T174438Z
LAST-MODIFIED:20260201T174438Z
UID:10003521-1803317400-1803326400@6and40brewery.com
SUMMARY:bluegrass pick
DESCRIPTION:Come and pick with us or just enjoy the pickers every Monday at 5:30.   It’s a great way to kick back on a Monday Evening. 
URL:https://6and40brewery.com/event/bluegrass-pick-2/2027-02-22/
LOCATION:6 and 40 Brewery\, 883 Parfet Street\, Unit J\, Lakewood\, CO\, 80215\, United States
CATEGORIES:Event
END:VEVENT
END:VCALENDAR