BEGIN:VCALENDAR
VERSION:2.0
PRODID:-//6 and 40 Brewery - ECPv6.15.20//NONSGML v1.0//EN
CALSCALE:GREGORIAN
METHOD:PUBLISH
X-ORIGINAL-URL:https://6and40brewery.com
X-WR-CALDESC:Events for 6 and 40 Brewery
REFRESH-INTERVAL;VALUE=DURATION:PT1H
X-Robots-Tag:noindex
X-PUBLISHED-TTL:PT1H
BEGIN:VTIMEZONE
TZID:America/Denver
BEGIN:DAYLIGHT
TZOFFSETFROM:-0700
TZOFFSETTO:-0600
TZNAME:MDT
DTSTART:20240310T090000
END:DAYLIGHT
BEGIN:STANDARD
TZOFFSETFROM:-0600
TZOFFSETTO:-0700
TZNAME:MST
DTSTART:20241103T080000
END:STANDARD
BEGIN:DAYLIGHT
TZOFFSETFROM:-0700
TZOFFSETTO:-0600
TZNAME:MDT
DTSTART:20250309T090000
END:DAYLIGHT
BEGIN:STANDARD
TZOFFSETFROM:-0600
TZOFFSETTO:-0700
TZNAME:MST
DTSTART:20251102T080000
END:STANDARD
BEGIN:DAYLIGHT
TZOFFSETFROM:-0700
TZOFFSETTO:-0600
TZNAME:MDT
DTSTART:20260308T090000
END:DAYLIGHT
BEGIN:STANDARD
TZOFFSETFROM:-0600
TZOFFSETTO:-0700
TZNAME:MST
DTSTART:20261101T080000
END:STANDARD
END:VTIMEZONE
BEGIN:VEVENT
DTSTART;TZID=America/Denver:20250508T160000
DTEND;TZID=America/Denver:20250508T200000
DTSTAMP:20260424T171944
CREATED:20250331T184539Z
LAST-MODIFIED:20250501T143736Z
UID:10002987-1746720000-1746734400@6and40brewery.com
SUMMARY:papa friets food truck
DESCRIPTION:Serving up Mouth watering Poutine and Belgian Friets.
URL:https://6and40brewery.com/event/papa-friets-food-truck/2025-05-08/
LOCATION:6 and 40 Brewery\, 883 Parfet Street\, Unit J\, Lakewood\, CO\, 80215\, United States
CATEGORIES:Food Trucks
ORGANIZER;CN="Papa Friets":MAILTO:alexcarter@chefalexcarter.com
END:VEVENT
BEGIN:VEVENT
DTSTART;TZID=America/Denver:20250523T160000
DTEND;TZID=America/Denver:20250523T200000
DTSTAMP:20260424T171944
CREATED:20250331T184539Z
LAST-MODIFIED:20250501T143736Z
UID:10002983-1748016000-1748030400@6and40brewery.com
SUMMARY:papa friets food truck
DESCRIPTION:Serving up Mouth watering Poutine and Belgian Friets.
URL:https://6and40brewery.com/event/papa-friets-food-truck/2025-05-23/
LOCATION:6 and 40 Brewery\, 883 Parfet Street\, Unit J\, Lakewood\, CO\, 80215\, United States
CATEGORIES:Food Trucks
ORGANIZER;CN="Papa Friets":MAILTO:alexcarter@chefalexcarter.com
END:VEVENT
BEGIN:VEVENT
DTSTART;TZID=America/Denver:20250529T160000
DTEND;TZID=America/Denver:20250529T200000
DTSTAMP:20260424T171944
CREATED:20250331T184539Z
LAST-MODIFIED:20250501T143736Z
UID:10002984-1748534400-1748548800@6and40brewery.com
SUMMARY:papa friets food truck
DESCRIPTION:Serving up Mouth watering Poutine and Belgian Friets.
URL:https://6and40brewery.com/event/papa-friets-food-truck/2025-05-29/
LOCATION:6 and 40 Brewery\, 883 Parfet Street\, Unit J\, Lakewood\, CO\, 80215\, United States
CATEGORIES:Food Trucks
ORGANIZER;CN="Papa Friets":MAILTO:alexcarter@chefalexcarter.com
END:VEVENT
END:VCALENDAR